BEGIN:VCALENDAR
VERSION:2.0
PRODID:-//Robot U - ECPv6.15.20//NONSGML v1.0//EN
CALSCALE:GREGORIAN
METHOD:PUBLISH
X-ORIGINAL-URL:https://robotu.com
X-WR-CALDESC:Events for Robot U
REFRESH-INTERVAL;VALUE=DURATION:PT1H
X-Robots-Tag:noindex
X-PUBLISHED-TTL:PT1H
BEGIN:VTIMEZONE
TZID:America/Vancouver
BEGIN:DAYLIGHT
TZOFFSETFROM:-0800
TZOFFSETTO:-0700
TZNAME:PDT
DTSTART:20250309T100000
END:DAYLIGHT
BEGIN:STANDARD
TZOFFSETFROM:-0700
TZOFFSETTO:-0800
TZNAME:PST
DTSTART:20251102T090000
END:STANDARD
BEGIN:DAYLIGHT
TZOFFSETFROM:-0800
TZOFFSETTO:-0700
TZNAME:PDT
DTSTART:20260308T100000
END:DAYLIGHT
BEGIN:STANDARD
TZOFFSETFROM:-0700
TZOFFSETTO:-0800
TZNAME:PST
DTSTART:20261101T090000
END:STANDARD
BEGIN:DAYLIGHT
TZOFFSETFROM:-0800
TZOFFSETTO:-0700
TZNAME:PDT
DTSTART:20270314T100000
END:DAYLIGHT
BEGIN:STANDARD
TZOFFSETFROM:-0700
TZOFFSETTO:-0800
TZNAME:PST
DTSTART:20271107T090000
END:STANDARD
END:VTIMEZONE
BEGIN:VEVENT
DTSTART;TZID=America/Vancouver:20260131T170000
DTEND;TZID=America/Vancouver:20260131T200000
DTSTAMP:20260423T122437
CREATED:20260104T000552Z
LAST-MODIFIED:20260106T011138Z
UID:10000061-1769878800-1769889600@robotu.com
SUMMARY:Possible Parents Night Out
DESCRIPTION:Want a PNO for this night? Reserve a space and if we get 6+ participants we’ll hold one!\n\n\n\nStatus: Pending Launch 🚀 \n\n\n\nTo ensure the best collaborative experience (and those epic 3v3 Robot Wars)\, we require a minimum of 6 players to run the session. This event is a spontaneous event that will not be posted to the Center of Creativiy’s site untill we reach our launch number. \n\n\n\nHow it works: Register your interest now! We will send a “Green Light” confirmation email by 6:00 PM the day before the event to let you know we’ve hit our minimum and are ready for play. No payment is required until the event is confirmed. \n\n\n\nRSVP now to save your spot in the queue!
URL:https://robotu.com/event/possible-parents-night-out-2/
LOCATION:Center for Creativity\, 1533 Bendigo Blvd N\, North Bend\, WA\, 98045\, United States
CATEGORIES:Activity,Gorilla Tag,Minecraft,Minecraft,Parents Night Out,Sphero,Virtual Reality
ATTACH;FMTTYPE=image/jpeg:https://robotu.com/wp-content/uploads/2026/01/PXL_20251116_024846875.MP_-1.jpg
ORGANIZER;CN="Center for Creativity":MAILTO:admin@nbaicc.org
END:VEVENT
END:VCALENDAR