BEGIN:VCALENDAR
VERSION:2.0
PRODID:-//Robot U - ECPv6.15.20//NONSGML v1.0//EN
CALSCALE:GREGORIAN
METHOD:PUBLISH
X-ORIGINAL-URL:https://robotu.com
X-WR-CALDESC:Events for Robot U
REFRESH-INTERVAL;VALUE=DURATION:PT1H
X-Robots-Tag:noindex
X-PUBLISHED-TTL:PT1H
BEGIN:VTIMEZONE
TZID:America/Vancouver
BEGIN:DAYLIGHT
TZOFFSETFROM:-0800
TZOFFSETTO:-0700
TZNAME:PDT
DTSTART:20250309T100000
END:DAYLIGHT
BEGIN:STANDARD
TZOFFSETFROM:-0700
TZOFFSETTO:-0800
TZNAME:PST
DTSTART:20251102T090000
END:STANDARD
BEGIN:DAYLIGHT
TZOFFSETFROM:-0800
TZOFFSETTO:-0700
TZNAME:PDT
DTSTART:20260308T100000
END:DAYLIGHT
BEGIN:STANDARD
TZOFFSETFROM:-0700
TZOFFSETTO:-0800
TZNAME:PST
DTSTART:20261101T090000
END:STANDARD
BEGIN:DAYLIGHT
TZOFFSETFROM:-0800
TZOFFSETTO:-0700
TZNAME:PDT
DTSTART:20270314T100000
END:DAYLIGHT
BEGIN:STANDARD
TZOFFSETFROM:-0700
TZOFFSETTO:-0800
TZNAME:PST
DTSTART:20271107T090000
END:STANDARD
END:VTIMEZONE
BEGIN:VEVENT
DTSTART;TZID=America/Vancouver:20260227T170000
DTEND;TZID=America/Vancouver:20260227T200000
DTSTAMP:20260423T104432
CREATED:20260103T210450Z
LAST-MODIFIED:20260103T210821Z
UID:10000054-1772211600-1772222400@robotu.com
SUMMARY:Parents Night Out
DESCRIPTION:A PNO the Robot U Way! Players\, 9 and up (due to Quest Headset sizing)\, get to battle creepers\, swing through virtual jungles\, and operate prismatic robotic balls! They will find themselves transported to the virtual worlds of Minecraft and the arenas of Gorilla Tag — all inside a supervised\, walled-off environment built for safe cooporative play broken up with a good dose of real world programming\, experimentation\, and driving our Sphero Bolts. (Three hours straight of VR is a bit much 🙂 ) They’ll be having so much fun they won’t even realize they’re learning the fundumentals of teamwork\, engineering\, and programming. Oh\, and good luck pulling them away at the end of the night. 😉 \n\n\n\nThere’s popcorn. There’s lemonade. There’s structure.
URL:https://robotu.com/event/parents-night-out-8/
LOCATION:Si View Community Center\, 400 SE Orchard Drive\, NORTH BEND\, WA\, 98045\, United States
CATEGORIES:Activity,Gorilla Tag,Minecraft,Minecraft,Parents Night Out,Sphero,Virtual Reality
ORGANIZER;CN="Si View Metro Parks":MAILTO:info@siviewpark.org
END:VEVENT
END:VCALENDAR